BEGIN:VCALENDAR
VERSION:2.0
PRODID:-//Ambition Motorsport - ECPv6.1.2.1//NONSGML v1.0//EN
CALSCALE:GREGORIAN
METHOD:PUBLISH
X-ORIGINAL-URL:https://www.ambitionmotorsport.com
X-WR-CALDESC:Events for Ambition Motorsport
REFRESH-INTERVAL;VALUE=DURATION:PT1H
X-Robots-Tag:noindex
X-PUBLISHED-TTL:PT1H
BEGIN:VTIMEZONE
TZID:Europe/London
BEGIN:DAYLIGHT
TZOFFSETFROM:+0000
TZOFFSETTO:+0100
TZNAME:BST
DTSTART:20230326T010000
END:DAYLIGHT
BEGIN:STANDARD
TZOFFSETFROM:+0100
TZOFFSETTO:+0000
TZNAME:GMT
DTSTART:20231029T010000
END:STANDARD
END:VTIMEZONE
BEGIN:VEVENT
DTSTART;VALUE=DATE:20230630
DTEND;VALUE=DATE:20230703
DTSTAMP:20260423T032057
CREATED:20230517T111342Z
LAST-MODIFIED:20230517T111342Z
UID:9380-1688083200-1688342399@www.ambitionmotorsport.com
SUMMARY:S1 Fulbeck IKR Event
DESCRIPTION:
URL:https://www.ambitionmotorsport.com/race/s1-fulbeck-ikr-event-2/
END:VEVENT
END:VCALENDAR