BEGIN:VCALENDAR
VERSION:2.0
PRODID:-//Ambition Motorsport - ECPv6.1.2.1//NONSGML v1.0//EN
CALSCALE:GREGORIAN
METHOD:PUBLISH
X-WR-CALNAME:Ambition Motorsport
X-ORIGINAL-URL:https://www.ambitionmotorsport.com
X-WR-CALDESC:Events for Ambition Motorsport
REFRESH-INTERVAL;VALUE=DURATION:PT1H
X-Robots-Tag:noindex
X-PUBLISHED-TTL:PT1H
BEGIN:VTIMEZONE
TZID:Europe/London
BEGIN:DAYLIGHT
TZOFFSETFROM:+0000
TZOFFSETTO:+0100
TZNAME:BST
DTSTART:20230326T010000
END:DAYLIGHT
BEGIN:STANDARD
TZOFFSETFROM:+0100
TZOFFSETTO:+0000
TZNAME:GMT
DTSTART:20231029T010000
END:STANDARD
END:VTIMEZONE
BEGIN:VEVENT
DTSTART;VALUE=DATE:20231027
DTEND;VALUE=DATE:20231030
DTSTAMP:20260422T230322
CREATED:20230517T112327Z
LAST-MODIFIED:20230517T112327Z
UID:9424-1698364800-1698623999@www.ambitionmotorsport.com
SUMMARY:Rye House London Cup Event
DESCRIPTION:
URL:https://www.ambitionmotorsport.com/race/rye-house-london-cup-event/
END:VEVENT
END:VCALENDAR