BEGIN:VCALENDAR
VERSION:2.0
PRODID:-//Ambition Motorsport - ECPv6.1.2.1//NONSGML v1.0//EN
CALSCALE:GREGORIAN
METHOD:PUBLISH
X-WR-CALNAME:Ambition Motorsport
X-ORIGINAL-URL:https://www.ambitionmotorsport.com
X-WR-CALDESC:Events for Ambition Motorsport
REFRESH-INTERVAL;VALUE=DURATION:PT1H
X-Robots-Tag:noindex
X-PUBLISHED-TTL:PT1H
BEGIN:VTIMEZONE
TZID:Europe/London
BEGIN:DAYLIGHT
TZOFFSETFROM:+0000
TZOFFSETTO:+0100
TZNAME:BST
DTSTART:20230326T010000
END:DAYLIGHT
BEGIN:STANDARD
TZOFFSETFROM:+0100
TZOFFSETTO:+0000
TZNAME:GMT
DTSTART:20231029T010000
END:STANDARD
END:VTIMEZONE
BEGIN:VEVENT
DTSTART;VALUE=DATE:20230602
DTEND;VALUE=DATE:20230605
DTSTAMP:20260423T092944
CREATED:20230517T111211Z
LAST-MODIFIED:20230517T111211Z
UID:9369-1685664000-1685923199@www.ambitionmotorsport.com
SUMMARY:S1 Clay Pigeon IKR Event
DESCRIPTION:
URL:https://www.ambitionmotorsport.com/race/s1-clay-pigeon-ikr-event-2/
END:VEVENT
BEGIN:VEVENT
DTSTART;VALUE=DATE:20230530
DTEND;VALUE=DATE:20230531
DTSTAMP:20260423T092944
CREATED:20230517T111146Z
LAST-MODIFIED:20230517T111146Z
UID:9366-1685404800-1685491199@www.ambitionmotorsport.com
SUMMARY:Buckmore Park Test
DESCRIPTION:
URL:https://www.ambitionmotorsport.com/race/buckmore-park-test/
END:VEVENT
BEGIN:VEVENT
DTSTART;VALUE=DATE:20230526
DTEND;VALUE=DATE:20230529
DTSTAMP:20260423T092944
CREATED:20230517T111127Z
LAST-MODIFIED:20230517T111127Z
UID:9363-1685059200-1685318399@www.ambitionmotorsport.com
SUMMARY:Whilton Mill MSUK Event
DESCRIPTION:
URL:https://www.ambitionmotorsport.com/race/whilton-mill-msuk-event-4/
END:VEVENT
BEGIN:VEVENT
DTSTART;VALUE=DATE:20230525
DTEND;VALUE=DATE:20230526
DTSTAMP:20260423T092944
CREATED:20230517T111045Z
LAST-MODIFIED:20230517T111045Z
UID:9360-1684972800-1685059199@www.ambitionmotorsport.com
SUMMARY:Fulbeck Track Hire Event
DESCRIPTION:
URL:https://www.ambitionmotorsport.com/race/fulbeck-track-hire-event/
END:VEVENT
BEGIN:VEVENT
DTSTART;VALUE=DATE:20230519
DTEND;VALUE=DATE:20230522
DTSTAMP:20260423T092944
CREATED:20221017T131740Z
LAST-MODIFIED:20230517T111005Z
UID:9002-1684454400-1684713599@www.ambitionmotorsport.com
SUMMARY:Shenington MSUK Club Event
DESCRIPTION:
URL:https://www.ambitionmotorsport.com/race/bayford-shenington-msuk-events/
END:VEVENT
END:VCALENDAR