BEGIN:VCALENDAR
VERSION:2.0
PRODID:-//Ambition Motorsport - ECPv6.1.2.1//NONSGML v1.0//EN
CALSCALE:GREGORIAN
METHOD:PUBLISH
X-WR-CALNAME:Ambition Motorsport
X-ORIGINAL-URL:https://www.ambitionmotorsport.com
X-WR-CALDESC:Events for Ambition Motorsport
REFRESH-INTERVAL;VALUE=DURATION:PT1H
X-Robots-Tag:noindex
X-PUBLISHED-TTL:PT1H
BEGIN:VTIMEZONE
TZID:Europe/London
BEGIN:DAYLIGHT
TZOFFSETFROM:+0000
TZOFFSETTO:+0100
TZNAME:BST
DTSTART:20230326T010000
END:DAYLIGHT
BEGIN:STANDARD
TZOFFSETFROM:+0100
TZOFFSETTO:+0000
TZNAME:GMT
DTSTART:20231029T010000
END:STANDARD
END:VTIMEZONE
BEGIN:VEVENT
DTSTART;VALUE=DATE:20230804
DTEND;VALUE=DATE:20230807
DTSTAMP:20260423T003220
CREATED:20230517T111511Z
LAST-MODIFIED:20230517T111511Z
UID:9392-1691107200-1691366399@www.ambitionmotorsport.com
SUMMARY:S1 Whilton Mill IKR Event
DESCRIPTION:
URL:https://www.ambitionmotorsport.com/race/s1-whilton-mill-ikr-event-2/
END:VEVENT
BEGIN:VEVENT
DTSTART;VALUE=DATE:20230813
DTEND;VALUE=DATE:20230814
DTSTAMP:20260423T003220
CREATED:20230517T111528Z
LAST-MODIFIED:20230517T111528Z
UID:9394-1691884800-1691971199@www.ambitionmotorsport.com
SUMMARY:Bayford Test Event
DESCRIPTION:
URL:https://www.ambitionmotorsport.com/race/bayford-test-event/
END:VEVENT
BEGIN:VEVENT
DTSTART;VALUE=DATE:20230818
DTEND;VALUE=DATE:20230821
DTSTAMP:20260423T003220
CREATED:20230517T111555Z
LAST-MODIFIED:20230517T111555Z
UID:9400-1692316800-1692575999@www.ambitionmotorsport.com
SUMMARY:Bayford Meadows MSUK Event
DESCRIPTION:
URL:https://www.ambitionmotorsport.com/race/bayford-meadows-msuk-event/
END:VEVENT
BEGIN:VEVENT
DTSTART;VALUE=DATE:20230825
DTEND;VALUE=DATE:20230828
DTSTAMP:20260423T003220
CREATED:20230517T111617Z
LAST-MODIFIED:20230517T111617Z
UID:9402-1692921600-1693180799@www.ambitionmotorsport.com
SUMMARY:S1 Shenington IKR Event
DESCRIPTION:
URL:https://www.ambitionmotorsport.com/race/s1-shenington-ikr-event-2/
END:VEVENT
END:VCALENDAR